BEGIN:VCALENDAR
VERSION:2.0
PRODID:-//Tukios.com/
BEGIN:VEVENT
UID:c63a080e-0a99-47df-87fc-9d75e744fbec@www.freemanfamilyfuneralhomes.com
DTSTAMP:20260420T194619Z
DTSTART:20260423T170000Z
DTEND:20260423T190000Z
SUMMARY:Visitation
DESCRIPTION:
URL:https://www.freemanfamilyfuneralhomes.com/obituaries/beverly-aldous
LOCATION:Freeman Family Funeral Home 819 South Harrison Street  
	Shelbyville IN 46176
GEO:39.5166215;-85.7771367
END:VEVENT
END:VCALENDAR