BEGIN:VCALENDAR
VERSION:2.0
PRODID:-//Tukios.com/
BEGIN:VEVENT
UID:515bdf0d-e560-4d62-9b0f-1f3c63099079@www.freemanfamilyfuneralhomes.com
DTSTAMP:20260420T195351Z
DTSTART:20260423T190000Z
DTEND:20260423T200000Z
SUMMARY:Funeral Service
DESCRIPTION:
URL:https://www.freemanfamilyfuneralhomes.com/obituaries/beverly-aldous
LOCATION:Freeman Family Funeral Home 819 South Harrison Street  
	Shelbyville IN 46176
GEO:39.5166215;-85.7771367
END:VEVENT
END:VCALENDAR