BEGIN:VCALENDAR
VERSION:2.0
PRODID:-//Tukios.com/
BEGIN:VEVENT
UID:90303d27-8ae0-44fc-a2b3-f6fc3b79930b@www.freemanfamilyfuneralhomes.com
DTSTAMP:20260421T174332Z
DTSTART:20260427T150000Z
DTEND:20260427T170000Z
SUMMARY:Visitation
DESCRIPTION:
URL:https://www.freemanfamilyfuneralhomes.com/obituaries/eleanor-stamper
LOCATION: 819 South Harrison St.  Shelbyville IN 46176
GEO:39.5166438;-85.7771166
END:VEVENT
END:VCALENDAR