BEGIN:VCALENDAR
VERSION:2.0
PRODID:-//Tukios.com/
BEGIN:VEVENT
UID:fc4cd79e-cb6f-4e1b-8eb4-6e1a0f1e9a56@www.freemanfamilyfuneralhomes.com
DTSTAMP:20260421T174058Z
DTSTART:20260427T170000Z
DTEND:20260427T180000Z
SUMMARY:Funeral Service
DESCRIPTION:
URL:https://www.freemanfamilyfuneralhomes.com/obituaries/eleanor-stamper
LOCATION: 819 South Harrison St.  Shelbyville IN 46176
GEO:39.5166438;-85.7771166
END:VEVENT
END:VCALENDAR