BEGIN:VCALENDAR
VERSION:2.0
PRODID:-//Tukios.com/
BEGIN:VEVENT
UID:bb5840f8-6770-45d3-89b3-274e9ad520c7@www.freemanfamilyfuneralhomes.com
DTSTAMP:20260420T002232Z
DTSTART:20260421T210000Z
DTEND:20260421T230000Z
SUMMARY:Visitation
DESCRIPTION:With Masonic services at 7 pm.
URL:https://www.freemanfamilyfuneralhomes.com/obituaries/james-willard
LOCATION: 819 South Harrison St.  Shelbyville IN 46176
GEO:39.5166438;-85.7771166
END:VEVENT
END:VCALENDAR