BEGIN:VCALENDAR
VERSION:2.0
PRODID:-//Tukios.com/
BEGIN:VEVENT
UID:267705f7-65d8-4619-81f7-2be721603016@www.freemanfamilyfuneralhomes.com
DTSTAMP:20260420T002113Z
DTSTART:20260422T150000Z
DTEND:20260422T160000Z
SUMMARY:Funeral Service
DESCRIPTION:
URL:https://www.freemanfamilyfuneralhomes.com/obituaries/james-willard
LOCATION: 819 South Harrison St.  Shelbyville IN 46176
GEO:39.5166438;-85.7771166
END:VEVENT
END:VCALENDAR