BEGIN:VCALENDAR
VERSION:2.0
PRODID:-//Tukios.com/
BEGIN:VEVENT
UID:f2fd4567-f7a0-4148-8a85-5f221ead640d@www.freemanfamilyfuneralhomes.com
DTSTAMP:20260421T234058Z
DTSTART:20260424T200000Z
DTEND:20260424T210000Z
SUMMARY:Visitation
DESCRIPTION:
URL:https://www.freemanfamilyfuneralhomes.com/obituaries/marty-mart
LOCATION:Freeman Family Funeral Homes and Crematory 124 E North St  
	Morristown IN 46161
GEO:39.6742856;-85.6971055
END:VEVENT
END:VCALENDAR