BEGIN:VCALENDAR
VERSION:2.0
PRODID:-//Tukios.com/
BEGIN:VEVENT
UID:5f8edfa0-0cd9-4bd7-a30e-48e87b1ff2c8@www.freemanfamilyfuneralhomes.com
DTSTAMP:20260421T233534Z
DTSTART:20260424T210000Z
DTEND:20260424T220000Z
SUMMARY:Funeral Service
DESCRIPTION:
URL:https://www.freemanfamilyfuneralhomes.com/obituaries/marty-mart
LOCATION: 124 E North St  Morristown IN 46161
GEO:39.6742856;-85.6971055
END:VEVENT
END:VCALENDAR