BEGIN:VCALENDAR
VERSION:2.0
PRODID:-//Tukios.com/
BEGIN:VEVENT
UID:b9160b3c-2a6d-46cb-a653-b31b8ea74911@www.freemanfamilyfuneralhomes.com
DTSTAMP:20260421T234238Z
DTSTART:20260425T170000Z
DTEND:20260425T180000Z
SUMMARY:Graveside Service
DESCRIPTION:
URL:https://www.freemanfamilyfuneralhomes.com/obituaries/marty-mart
LOCATION:Converse Cemetery .  Converse IN 46919
GEO:40.5775397;-85.8733179
END:VEVENT
END:VCALENDAR